BEGIN:VCALENDAR
VERSION:2.0
PRODID:-//Aventurec - ECPv6.15.20//NONSGML v1.0//EN
CALSCALE:GREGORIAN
METHOD:PUBLISH
X-ORIGINAL-URL:https://aventurec.com
X-WR-CALDESC:Eventos para Aventurec
REFRESH-INTERVAL;VALUE=DURATION:PT1H
X-Robots-Tag:noindex
X-PUBLISHED-TTL:PT1H
BEGIN:VTIMEZONE
TZID:UTC
BEGIN:STANDARD
TZOFFSETFROM:+0000
TZOFFSETTO:+0000
TZNAME:UTC
DTSTART:20250101T000000
END:STANDARD
END:VTIMEZONE
BEGIN:VEVENT
DTSTART;TZID=UTC:20260501T183000
DTEND;TZID=UTC:20270601T210000
DTSTAMP:20260425T154929
CREATED:20250823T121448Z
LAST-MODIFIED:20260424T122712Z
UID:2549-1777660200-1811883600@aventurec.com
SUMMARY:Noche de práctica y habilidades en kayak
DESCRIPTION:
URL:https://aventurec.com/event/noche-de-practica-y-habilidades-en-kayak/
LOCATION:Aventurec Basecamp\, Netherlands
CATEGORIES:Próximas aventuras
ATTACH;FMTTYPE=image/webp:https://aventurec.com/wp-content/uploads/2025/06/activitiy-1-img.webp
END:VEVENT
END:VCALENDAR